BEGIN:VCALENDAR
VERSION:2.0
PRODID:-//Abfallkalender Lostorf 2026//lostorf.ch//
CALSCALE:GREGORIAN
BEGIN:VEVENT
UID:20260108-Kehricht@lostorf.ch
DTSTAMP:20251030T155828Z
DTSTART;VALUE=DATE:20260108
DTEND;VALUE=DATE:20260109
SUMMARY:Kehricht
DESCRIPTION:ab 07:00 Uhr am Strassenrand bereitgestellt
END:VEVENT
BEGIN:VEVENT
UID:20260112-Grüngut@lostorf.ch
DTSTAMP:20251030T155828Z
DTSTART;VALUE=DATE:20260112
DTEND;VALUE=DATE:20260113
SUMMARY:Grüngut
DESCRIPTION:ab 07:00 Uhr am Strassenrand bereitgestellt
END:VEVENT
BEGIN:VEVENT
UID:20260113-GratisabfuhrWeihnachtsbäume@lostorf.ch
DTSTAMP:20251030T155828Z
DTSTART;VALUE=DATE:20260113
DTEND;VALUE=DATE:20260114
SUMMARY:Gratisabfuhr Weihnachtsbäume
DESCRIPTION:ab 07:00 Uhr am Strassenrand bereitgestellt / ohne Weihnachtsschmuck
END:VEVENT
BEGIN:VEVENT
UID:20260115-Kehricht@lostorf.ch
DTSTAMP:20251030T155828Z
DTSTART;VALUE=DATE:20260115
DTEND;VALUE=DATE:20260116
SUMMARY:Kehricht
DESCRIPTION:ab 07:00 Uhr am Strassenrand bereitgestellt
END:VEVENT
BEGIN:VEVENT
UID:20260120-Papier/Karton@lostorf.ch
DTSTAMP:20251030T155828Z
DTSTART;VALUE=DATE:20260120
DTEND;VALUE=DATE:20260121
SUMMARY:Papier / Karton
DESCRIPTION:ab 07:00 Uhr am Strassenrand bereitgestellt
END:VEVENT
BEGIN:VEVENT
UID:20260122-Kehricht@lostorf.ch
DTSTAMP:20251030T155828Z
DTSTART;VALUE=DATE:20260122
DTEND;VALUE=DATE:20260123
SUMMARY:Kehricht
DESCRIPTION:ab 07:00 Uhr am Strassenrand bereitgestellt
END:VEVENT
BEGIN:VEVENT
UID:20260126-Grüngut@lostorf.ch
DTSTAMP:20251030T155828Z
DTSTART;VALUE=DATE:20260126
DTEND;VALUE=DATE:20260127
SUMMARY:Grüngut
DESCRIPTION:ab 07:00 Uhr am Strassenrand bereitgestellt
END:VEVENT
BEGIN:VEVENT
UID:20260129-Kehricht@lostorf.ch
DTSTAMP:20251030T155828Z
DTSTART;VALUE=DATE:20260129
DTEND;VALUE=DATE:20260130
SUMMARY:Kehricht
DESCRIPTION:ab 07:00 Uhr am Strassenrand bereitgestellt
END:VEVENT
BEGIN:VEVENT
UID:20260205-Kehricht@lostorf.ch
DTSTAMP:20251030T155828Z
DTSTART;VALUE=DATE:20260205
DTEND;VALUE=DATE:20260206
SUMMARY:Kehricht
DESCRIPTION:ab 07:00 Uhr am Strassenrand bereitgestellt
END:VEVENT
BEGIN:VEVENT
UID:20260209-Grüngut@lostorf.ch
DTSTAMP:20251030T155828Z
DTSTART;VALUE=DATE:20260209
DTEND;VALUE=DATE:20260210
SUMMARY:Grüngut
DESCRIPTION:ab 07:00 Uhr am Strassenrand bereitgestellt
END:VEVENT
BEGIN:VEVENT
UID:20260212-Kehricht@lostorf.ch
DTSTAMP:20251030T155828Z
DTSTART;VALUE=DATE:20260212
DTEND;VALUE=DATE:20260213
SUMMARY:Kehricht
DESCRIPTION:ab 07:00 Uhr am Strassenrand bereitgestellt
END:VEVENT
BEGIN:VEVENT
UID:20260219-Kehricht@lostorf.ch
DTSTAMP:20251030T155828Z
DTSTART;VALUE=DATE:20260219
DTEND;VALUE=DATE:20260220
SUMMARY:Kehricht
DESCRIPTION:ab 07:00 Uhr am Strassenrand bereitgestellt
END:VEVENT
BEGIN:VEVENT
UID:20260223-Grüngut@lostorf.ch
DTSTAMP:20251030T155828Z
DTSTART;VALUE=DATE:20260223
DTEND;VALUE=DATE:20260224
SUMMARY:Grüngut
DESCRIPTION:ab 07:00 Uhr am Strassenrand bereitgestellt
END:VEVENT
BEGIN:VEVENT
UID:20260226-Kehricht@lostorf.ch
DTSTAMP:20251030T155828Z
DTSTART;VALUE=DATE:20260226
DTEND;VALUE=DATE:20260227
SUMMARY:Kehricht
DESCRIPTION:ab 07:00 Uhr am Strassenrand bereitgestellt
END:VEVENT
BEGIN:VEVENT
UID:20260305-Kehricht@lostorf.ch
DTSTAMP:20251030T155828Z
DTSTART;VALUE=DATE:20260305
DTEND;VALUE=DATE:20260306
SUMMARY:Kehricht
DESCRIPTION:ab 07:00 Uhr am Strassenrand bereitgestellt
END:VEVENT
BEGIN:VEVENT
UID:20260309-Grüngut/Jahresvignette2026!@lostorf.ch
DTSTAMP:20251030T155828Z
DTSTART;VALUE=DATE:20260309
DTEND;VALUE=DATE:20260310
SUMMARY:Grüngut / Jahresvignette 2026!
DESCRIPTION:ab 07:00 Uhr am Strassenrand bereitgestellt
END:VEVENT
BEGIN:VEVENT
UID:20260312-Kehricht@lostorf.ch
DTSTAMP:20251030T155828Z
DTSTART;VALUE=DATE:20260312
DTEND;VALUE=DATE:20260313
SUMMARY:Kehricht
DESCRIPTION:ab 07:00 Uhr am Strassenrand bereitgestellt
END:VEVENT
BEGIN:VEVENT
UID:20260317-Häckseldienst@lostorf.ch
DTSTAMP:20251030T155828Z
DTSTART;VALUE=DATE:20260317
DTEND;VALUE=DATE:20260318
SUMMARY:Häckseldienst
DESCRIPTION:ab 07:00 Uhr am Strassenrand bereitgestellt / Häckselgut wird nicht abgeführt
END:VEVENT
BEGIN:VEVENT
UID:20260319-Kehricht@lostorf.ch
DTSTAMP:20251030T155828Z
DTSTART;VALUE=DATE:20260319
DTEND;VALUE=DATE:20260320
SUMMARY:Kehricht
DESCRIPTION:ab 07:00 Uhr am Strassenrand bereitgestellt
END:VEVENT
BEGIN:VEVENT
UID:20260323-Grüngut@lostorf.ch
DTSTAMP:20251030T155828Z
DTSTART;VALUE=DATE:20260323
DTEND;VALUE=DATE:20260324
SUMMARY:Grüngut
DESCRIPTION:ab 07:00 Uhr am Strassenrand bereitgestellt
END:VEVENT
BEGIN:VEVENT
UID:20260326-Kehricht@lostorf.ch
DTSTAMP:20251030T155828Z
DTSTART;VALUE=DATE:20260326
DTEND;VALUE=DATE:20260327
SUMMARY:Kehricht
DESCRIPTION:ab 07:00 Uhr am Strassenrand bereitgestellt
END:VEVENT
BEGIN:VEVENT
UID:20260402-Kehricht@lostorf.ch
DTSTAMP:20251030T155828Z
DTSTART;VALUE=DATE:20260402
DTEND;VALUE=DATE:20260403
SUMMARY:Kehricht
DESCRIPTION:ab 07:00 Uhr am Strassenrand bereitgestellt
END:VEVENT
BEGIN:VEVENT
UID:20260409-Kehricht@lostorf.ch
DTSTAMP:20251030T155828Z
DTSTART;VALUE=DATE:20260409
DTEND;VALUE=DATE:20260410
SUMMARY:Kehricht
DESCRIPTION:ab 07:00 Uhr am Strassenrand bereitgestellt
END:VEVENT
BEGIN:VEVENT
UID:20260413-Grüngut@lostorf.ch
DTSTAMP:20251030T155828Z
DTSTART;VALUE=DATE:20260413
DTEND;VALUE=DATE:20260414
SUMMARY:Grüngut
DESCRIPTION:ab 07:00 Uhr am Strassenrand bereitgestellt
END:VEVENT
BEGIN:VEVENT
UID:20260414-Häckseldienst@lostorf.ch
DTSTAMP:20251030T155828Z
DTSTART;VALUE=DATE:20260414
DTEND;VALUE=DATE:20260415
SUMMARY:Häckseldienst
DESCRIPTION:ab 07:00 Uhr am Strassenrand bereitgestellt / Häckselgut wird nicht abgeführt
END:VEVENT
BEGIN:VEVENT
UID:20260416-Kehricht@lostorf.ch
DTSTAMP:20251030T155828Z
DTSTART;VALUE=DATE:20260416
DTEND;VALUE=DATE:20260417
SUMMARY:Kehricht
DESCRIPTION:ab 07:00 Uhr am Strassenrand bereitgestellt
END:VEVENT
BEGIN:VEVENT
UID:20260420-Grüngut@lostorf.ch
DTSTAMP:20251030T155828Z
DTSTART;VALUE=DATE:20260420
DTEND;VALUE=DATE:20260421
SUMMARY:Grüngut
DESCRIPTION:ab 07:00 Uhr am Strassenrand bereitgestellt
END:VEVENT
BEGIN:VEVENT
UID:20260423-Kehricht@lostorf.ch
DTSTAMP:20251030T155828Z
DTSTART;VALUE=DATE:20260423
DTEND;VALUE=DATE:20260424
SUMMARY:Kehricht
DESCRIPTION:ab 07:00 Uhr am Strassenrand bereitgestellt
END:VEVENT
BEGIN:VEVENT
UID:20260427-Grüngut@lostorf.ch
DTSTAMP:20251030T155828Z
DTSTART;VALUE=DATE:20260427
DTEND;VALUE=DATE:20260428
SUMMARY:Grüngut
DESCRIPTION:ab 07:00 Uhr am Strassenrand bereitgestellt
END:VEVENT
BEGIN:VEVENT
UID:20260430-Kehricht@lostorf.ch
DTSTAMP:20251030T155828Z
DTSTART;VALUE=DATE:20260430
DTEND;VALUE=DATE:20260501
SUMMARY:Kehricht
DESCRIPTION:ab 07:00 Uhr am Strassenrand bereitgestellt
END:VEVENT
BEGIN:VEVENT
UID:20260504-Grüngut@lostorf.ch
DTSTAMP:20251030T155828Z
DTSTART;VALUE=DATE:20260504
DTEND;VALUE=DATE:20260505
SUMMARY:Grüngut
DESCRIPTION:ab 07:00 Uhr am Strassenrand bereitgestellt
END:VEVENT
BEGIN:VEVENT
UID:20260507-Kehricht@lostorf.ch
DTSTAMP:20251030T155828Z
DTSTART;VALUE=DATE:20260507
DTEND;VALUE=DATE:20260508
SUMMARY:Kehricht
DESCRIPTION:ab 07:00 Uhr am Strassenrand bereitgestellt
END:VEVENT
BEGIN:VEVENT
UID:20260511-Grüngut@lostorf.ch
DTSTAMP:20251030T155828Z
DTSTART;VALUE=DATE:20260511
DTEND;VALUE=DATE:20260512
SUMMARY:Grüngut
DESCRIPTION:ab 07:00 Uhr am Strassenrand bereitgestellt
END:VEVENT
BEGIN:VEVENT
UID:20260512-Papier/Karton@lostorf.ch
DTSTAMP:20251030T155828Z
DTSTART;VALUE=DATE:20260512
DTEND;VALUE=DATE:20260513
SUMMARY:Papier / Karton
DESCRIPTION:ab 07:00 Uhr am Strassenrand bereitgestellt
END:VEVENT
BEGIN:VEVENT
UID:20260515-Kehricht/VerschiebungwegenFeiertag@lostorf.ch
DTSTAMP:20251030T155828Z
DTSTART;VALUE=DATE:20260515
DTEND;VALUE=DATE:20260516
SUMMARY:Kehricht / Verschiebung wegen Feiertag
DESCRIPTION:ab 07:00 Uhr am Strassenrand bereitgestellt
END:VEVENT
BEGIN:VEVENT
UID:20260518-Grüngut@lostorf.ch
DTSTAMP:20251030T155828Z
DTSTART;VALUE=DATE:20260518
DTEND;VALUE=DATE:20260519
SUMMARY:Grüngut
DESCRIPTION:ab 07:00 Uhr am Strassenrand bereitgestellt
END:VEVENT
BEGIN:VEVENT
UID:20260521-Kehricht@lostorf.ch
DTSTAMP:20251030T155828Z
DTSTART;VALUE=DATE:20260521
DTEND;VALUE=DATE:20260522
SUMMARY:Kehricht
DESCRIPTION:ab 07:00 Uhr am Strassenrand bereitgestellt
END:VEVENT
BEGIN:VEVENT
UID:20260528-Kehricht@lostorf.ch
DTSTAMP:20251030T155828Z
DTSTART;VALUE=DATE:20260528
DTEND;VALUE=DATE:20260529
SUMMARY:Kehricht
DESCRIPTION:ab 07:00 Uhr am Strassenrand bereitgestellt
END:VEVENT
BEGIN:VEVENT
UID:20260601-Grüngut@lostorf.ch
DTSTAMP:20251030T155828Z
DTSTART;VALUE=DATE:20260601
DTEND;VALUE=DATE:20260602
SUMMARY:Grüngut
DESCRIPTION:ab 07:00 Uhr am Strassenrand bereitgestellt
END:VEVENT
BEGIN:VEVENT
UID:20260605-Kehricht/VerschiebungwegenFeiertag@lostorf.ch
DTSTAMP:20251030T155828Z
DTSTART;VALUE=DATE:20260605
DTEND;VALUE=DATE:20260606
SUMMARY:Kehricht / Verschiebung wegen Feiertag
DESCRIPTION:ab 07:00 Uhr am Strassenrand bereitgestellt
END:VEVENT
BEGIN:VEVENT
UID:20260608-Grüngut@lostorf.ch
DTSTAMP:20251030T155828Z
DTSTART;VALUE=DATE:20260608
DTEND;VALUE=DATE:20260609
SUMMARY:Grüngut
DESCRIPTION:ab 07:00 Uhr am Strassenrand bereitgestellt
END:VEVENT
BEGIN:VEVENT
UID:20260611-Kehricht@lostorf.ch
DTSTAMP:20251030T155828Z
DTSTART;VALUE=DATE:20260611
DTEND;VALUE=DATE:20260612
SUMMARY:Kehricht
DESCRIPTION:ab 07:00 Uhr am Strassenrand bereitgestellt
END:VEVENT
BEGIN:VEVENT
UID:20260615-Grüngut@lostorf.ch
DTSTAMP:20251030T155828Z
DTSTART;VALUE=DATE:20260615
DTEND;VALUE=DATE:20260616
SUMMARY:Grüngut
DESCRIPTION:ab 07:00 Uhr am Strassenrand bereitgestellt
END:VEVENT
BEGIN:VEVENT
UID:20260618-Kehricht@lostorf.ch
DTSTAMP:20251030T155828Z
DTSTART;VALUE=DATE:20260618
DTEND;VALUE=DATE:20260619
SUMMARY:Kehricht
DESCRIPTION:ab 07:00 Uhr am Strassenrand bereitgestellt
END:VEVENT
BEGIN:VEVENT
UID:20260622-Grüngut@lostorf.ch
DTSTAMP:20251030T155828Z
DTSTART;VALUE=DATE:20260622
DTEND;VALUE=DATE:20260623
SUMMARY:Grüngut
DESCRIPTION:ab 07:00 Uhr am Strassenrand bereitgestellt
END:VEVENT
BEGIN:VEVENT
UID:20260625-Kehricht@lostorf.ch
DTSTAMP:20251030T155828Z
DTSTART;VALUE=DATE:20260625
DTEND;VALUE=DATE:20260626
SUMMARY:Kehricht
DESCRIPTION:ab 07:00 Uhr am Strassenrand bereitgestellt
END:VEVENT
BEGIN:VEVENT
UID:20260629-Grüngut@lostorf.ch
DTSTAMP:20251030T155828Z
DTSTART;VALUE=DATE:20260629
DTEND;VALUE=DATE:20260630
SUMMARY:Grüngut
DESCRIPTION:ab 07:00 Uhr am Strassenrand bereitgestellt
END:VEVENT
BEGIN:VEVENT
UID:20260702-Kehricht@lostorf.ch
DTSTAMP:20251030T155828Z
DTSTART;VALUE=DATE:20260702
DTEND;VALUE=DATE:20260703
SUMMARY:Kehricht
DESCRIPTION:ab 07:00 Uhr am Strassenrand bereitgestellt
END:VEVENT
BEGIN:VEVENT
UID:20260706-Grüngut@lostorf.ch
DTSTAMP:20251030T155828Z
DTSTART;VALUE=DATE:20260706
DTEND;VALUE=DATE:20260707
SUMMARY:Grüngut
DESCRIPTION:ab 07:00 Uhr am Strassenrand bereitgestellt
END:VEVENT
BEGIN:VEVENT
UID:20260709-Kehricht@lostorf.ch
DTSTAMP:20251030T155828Z
DTSTART;VALUE=DATE:20260709
DTEND;VALUE=DATE:20260710
SUMMARY:Kehricht
DESCRIPTION:ab 07:00 Uhr am Strassenrand bereitgestellt
END:VEVENT
BEGIN:VEVENT
UID:20260713-Grüngut@lostorf.ch
DTSTAMP:20251030T155828Z
DTSTART;VALUE=DATE:20260713
DTEND;VALUE=DATE:20260714
SUMMARY:Grüngut
DESCRIPTION:ab 07:00 Uhr am Strassenrand bereitgestellt
END:VEVENT
BEGIN:VEVENT
UID:20260716-Kehricht@lostorf.ch
DTSTAMP:20251030T155828Z
DTSTART;VALUE=DATE:20260716
DTEND;VALUE=DATE:20260717
SUMMARY:Kehricht
DESCRIPTION:ab 07:00 Uhr am Strassenrand bereitgestellt
END:VEVENT
BEGIN:VEVENT
UID:20260720-Grüngut@lostorf.ch
DTSTAMP:20251030T155828Z
DTSTART;VALUE=DATE:20260720
DTEND;VALUE=DATE:20260721
SUMMARY:Grüngut
DESCRIPTION:ab 07:00 Uhr am Strassenrand bereitgestellt
END:VEVENT
BEGIN:VEVENT
UID:20260723-Kehricht@lostorf.ch
DTSTAMP:20251030T155828Z
DTSTART;VALUE=DATE:20260723
DTEND;VALUE=DATE:20260724
SUMMARY:Kehricht
DESCRIPTION:ab 07:00 Uhr am Strassenrand bereitgestellt
END:VEVENT
BEGIN:VEVENT
UID:20260727-Grüngut@lostorf.ch
DTSTAMP:20251030T155828Z
DTSTART;VALUE=DATE:20260727
DTEND;VALUE=DATE:20260728
SUMMARY:Grüngut
DESCRIPTION:ab 07:00 Uhr am Strassenrand bereitgestellt
END:VEVENT
BEGIN:VEVENT
UID:20260730-Kehricht@lostorf.ch
DTSTAMP:20251030T155828Z
DTSTART;VALUE=DATE:20260730
DTEND;VALUE=DATE:20260731
SUMMARY:Kehricht
DESCRIPTION:ab 07:00 Uhr am Strassenrand bereitgestellt
END:VEVENT
BEGIN:VEVENT
UID:20260803-Grüngut@lostorf.ch
DTSTAMP:20251030T155828Z
DTSTART;VALUE=DATE:20260803
DTEND;VALUE=DATE:20260804
SUMMARY:Grüngut
DESCRIPTION:ab 07:00 Uhr am Strassenrand bereitgestellt
END:VEVENT
BEGIN:VEVENT
UID:20260806-Kehricht@lostorf.ch
DTSTAMP:20251030T155828Z
DTSTART;VALUE=DATE:20260806
DTEND;VALUE=DATE:20260807
SUMMARY:Kehricht
DESCRIPTION:ab 07:00 Uhr am Strassenrand bereitgestellt
END:VEVENT
BEGIN:VEVENT
UID:20260810-Grüngut@lostorf.ch
DTSTAMP:20251030T155828Z
DTSTART;VALUE=DATE:20260810
DTEND;VALUE=DATE:20260811
SUMMARY:Grüngut
DESCRIPTION:ab 07:00 Uhr am Strassenrand bereitgestellt
END:VEVENT
BEGIN:VEVENT
UID:20260813-Kehricht@lostorf.ch
DTSTAMP:20251030T155828Z
DTSTART;VALUE=DATE:20260813
DTEND;VALUE=DATE:20260814
SUMMARY:Kehricht
DESCRIPTION:ab 07:00 Uhr am Strassenrand bereitgestellt
END:VEVENT
BEGIN:VEVENT
UID:20260817-Grüngut@lostorf.ch
DTSTAMP:20251030T155828Z
DTSTART;VALUE=DATE:20260817
DTEND;VALUE=DATE:20260818
SUMMARY:Grüngut
DESCRIPTION:ab 07:00 Uhr am Strassenrand bereitgestellt
END:VEVENT
BEGIN:VEVENT
UID:20260818-Papier/Karton@lostorf.ch
DTSTAMP:20251030T155828Z
DTSTART;VALUE=DATE:20260818
DTEND;VALUE=DATE:20260819
SUMMARY:Papier / Karton
DESCRIPTION:ab 07:00 Uhr am Strassenrand bereitgestellt
END:VEVENT
BEGIN:VEVENT
UID:20260820-Kehricht@lostorf.ch
DTSTAMP:20251030T155828Z
DTSTART;VALUE=DATE:20260820
DTEND;VALUE=DATE:20260821
SUMMARY:Kehricht
DESCRIPTION:ab 07:00 Uhr am Strassenrand bereitgestellt
END:VEVENT
BEGIN:VEVENT
UID:20260824-Grüngut@lostorf.ch
DTSTAMP:20251030T155828Z
DTSTART;VALUE=DATE:20260824
DTEND;VALUE=DATE:20260825
SUMMARY:Grüngut
DESCRIPTION:ab 07:00 Uhr am Strassenrand bereitgestellt
END:VEVENT
BEGIN:VEVENT
UID:20260827-Kehricht@lostorf.ch
DTSTAMP:20251030T155828Z
DTSTART;VALUE=DATE:20260827
DTEND;VALUE=DATE:20260828
SUMMARY:Kehricht
DESCRIPTION:ab 07:00 Uhr am Strassenrand bereitgestellt
END:VEVENT
BEGIN:VEVENT
UID:20260831-Grüngut@lostorf.ch
DTSTAMP:20251030T155828Z
DTSTART;VALUE=DATE:20260831
DTEND;VALUE=DATE:20260901
SUMMARY:Grüngut
DESCRIPTION:ab 07:00 Uhr am Strassenrand bereitgestellt
END:VEVENT
BEGIN:VEVENT
UID:20260903-Kehricht@lostorf.ch
DTSTAMP:20251030T155828Z
DTSTART;VALUE=DATE:20260903
DTEND;VALUE=DATE:20260904
SUMMARY:Kehricht
DESCRIPTION:ab 07:00 Uhr am Strassenrand bereitgestellt
END:VEVENT
BEGIN:VEVENT
UID:20260907-Grüngut@lostorf.ch
DTSTAMP:20251030T155828Z
DTSTART;VALUE=DATE:20260907
DTEND;VALUE=DATE:20260908
SUMMARY:Grüngut
DESCRIPTION:ab 07:00 Uhr am Strassenrand bereitgestellt
END:VEVENT
BEGIN:VEVENT
UID:20260910-Kehricht@lostorf.ch
DTSTAMP:20251030T155828Z
DTSTART;VALUE=DATE:20260910
DTEND;VALUE=DATE:20260911
SUMMARY:Kehricht
DESCRIPTION:ab 07:00 Uhr am Strassenrand bereitgestellt
END:VEVENT
BEGIN:VEVENT
UID:20260914-Grüngut@lostorf.ch
DTSTAMP:20251030T155828Z
DTSTART;VALUE=DATE:20260914
DTEND;VALUE=DATE:20260915
SUMMARY:Grüngut
DESCRIPTION:ab 07:00 Uhr am Strassenrand bereitgestellt
END:VEVENT
BEGIN:VEVENT
UID:20260915-Häckseldienst@lostorf.ch
DTSTAMP:20251030T155828Z
DTSTART;VALUE=DATE:20260915
DTEND;VALUE=DATE:20260916
SUMMARY:Häckseldienst
DESCRIPTION:ab 07:00 Uhr am Strassenrand bereitgestellt / Häckselgut wird nicht abgeführt
END:VEVENT
BEGIN:VEVENT
UID:20260917-Kehricht@lostorf.ch
DTSTAMP:20251030T155828Z
DTSTART;VALUE=DATE:20260917
DTEND;VALUE=DATE:20260918
SUMMARY:Kehricht
DESCRIPTION:ab 07:00 Uhr am Strassenrand bereitgestellt
END:VEVENT
BEGIN:VEVENT
UID:20260921-Grüngut@lostorf.ch
DTSTAMP:20251030T155828Z
DTSTART;VALUE=DATE:20260921
DTEND;VALUE=DATE:20260922
SUMMARY:Grüngut
DESCRIPTION:ab 07:00 Uhr am Strassenrand bereitgestellt
END:VEVENT
BEGIN:VEVENT
UID:20260924-Kehricht@lostorf.ch
DTSTAMP:20251030T155828Z
DTSTART;VALUE=DATE:20260924
DTEND;VALUE=DATE:20260925
SUMMARY:Kehricht
DESCRIPTION:ab 07:00 Uhr am Strassenrand bereitgestellt
END:VEVENT
BEGIN:VEVENT
UID:20260928-Grüngut@lostorf.ch
DTSTAMP:20251030T155828Z
DTSTART;VALUE=DATE:20260928
DTEND;VALUE=DATE:20260929
SUMMARY:Grüngut
DESCRIPTION:ab 07:00 Uhr am Strassenrand bereitgestellt
END:VEVENT
BEGIN:VEVENT
UID:20261001-Kehricht@lostorf.ch
DTSTAMP:20251030T155828Z
DTSTART;VALUE=DATE:20261001
DTEND;VALUE=DATE:20261002
SUMMARY:Kehricht
DESCRIPTION:ab 07:00 Uhr am Strassenrand bereitgestellt
END:VEVENT
BEGIN:VEVENT
UID:20261005-Grüngut@lostorf.ch
DTSTAMP:20251030T155828Z
DTSTART;VALUE=DATE:20261005
DTEND;VALUE=DATE:20261006
SUMMARY:Grüngut
DESCRIPTION:ab 07:00 Uhr am Strassenrand bereitgestellt
END:VEVENT
BEGIN:VEVENT
UID:20261008-Kehricht@lostorf.ch
DTSTAMP:20251030T155828Z
DTSTART;VALUE=DATE:20261008
DTEND;VALUE=DATE:20261009
SUMMARY:Kehricht
DESCRIPTION:ab 07:00 Uhr am Strassenrand bereitgestellt
END:VEVENT
BEGIN:VEVENT
UID:20261012-Grüngut@lostorf.ch
DTSTAMP:20251030T155828Z
DTSTART;VALUE=DATE:20261012
DTEND;VALUE=DATE:20261013
SUMMARY:Grüngut
DESCRIPTION:ab 07:00 Uhr am Strassenrand bereitgestellt
END:VEVENT
BEGIN:VEVENT
UID:20261013-Häckseldienst@lostorf.ch
DTSTAMP:20251030T155828Z
DTSTART;VALUE=DATE:20261013
DTEND;VALUE=DATE:20261014
SUMMARY:Häckseldienst
DESCRIPTION:ab 07:00 Uhr am Strassenrand bereitgestellt
END:VEVENT
BEGIN:VEVENT
UID:20261015-Kehricht@lostorf.ch
DTSTAMP:20251030T155828Z
DTSTART;VALUE=DATE:20261015
DTEND;VALUE=DATE:20261016
SUMMARY:Kehricht
DESCRIPTION:ab 07:00 Uhr am Strassenrand bereitgestellt
END:VEVENT
BEGIN:VEVENT
UID:20261019-Grüngut@lostorf.ch
DTSTAMP:20251030T155828Z
DTSTART;VALUE=DATE:20261019
DTEND;VALUE=DATE:20261020
SUMMARY:Grüngut
DESCRIPTION:ab 07:00 Uhr am Strassenrand bereitgestellt
END:VEVENT
BEGIN:VEVENT
UID:20261022-Kehricht@lostorf.ch
DTSTAMP:20251030T155828Z
DTSTART;VALUE=DATE:20261022
DTEND;VALUE=DATE:20261023
SUMMARY:Kehricht
DESCRIPTION:ab 07:00 Uhr am Strassenrand bereitgestellt
END:VEVENT
BEGIN:VEVENT
UID:20261026-Grüngut@lostorf.ch
DTSTAMP:20251030T155828Z
DTSTART;VALUE=DATE:20261026
DTEND;VALUE=DATE:20261027
SUMMARY:Grüngut
DESCRIPTION:ab 07:00 Uhr am Strassenrand bereitgestellt
END:VEVENT
BEGIN:VEVENT
UID:20261029-Kehricht@lostorf.ch
DTSTAMP:20251030T155828Z
DTSTART;VALUE=DATE:20261029
DTEND;VALUE=DATE:20261030
SUMMARY:Kehricht
DESCRIPTION:ab 07:00 Uhr am Strassenrand bereitgestellt
END:VEVENT
BEGIN:VEVENT
UID:20261102-Grüngut@lostorf.ch
DTSTAMP:20251030T155828Z
DTSTART;VALUE=DATE:20261102
DTEND;VALUE=DATE:20261103
SUMMARY:Grüngut
DESCRIPTION:ab 07:00 Uhr am Strassenrand bereitgestellt
END:VEVENT
BEGIN:VEVENT
UID:20261105-Kehricht@lostorf.ch
DTSTAMP:20251030T155828Z
DTSTART;VALUE=DATE:20261105
DTEND;VALUE=DATE:20261106
SUMMARY:Kehricht
DESCRIPTION:ab 07:00 Uhr am Strassenrand bereitgestellt
END:VEVENT
BEGIN:VEVENT
UID:20261109-Grüngut@lostorf.ch
DTSTAMP:20251030T155828Z
DTSTART;VALUE=DATE:20261109
DTEND;VALUE=DATE:20261110
SUMMARY:Grüngut
DESCRIPTION:ab 07:00 Uhr am Strassenrand bereitgestellt
END:VEVENT
BEGIN:VEVENT
UID:20261110-Papier/Karton@lostorf.ch
DTSTAMP:20251030T155828Z
DTSTART;VALUE=DATE:20261110
DTEND;VALUE=DATE:20261111
SUMMARY:Papier / Karton
DESCRIPTION:ab 07:00 Uhr am Strassenrand bereitgestellt
END:VEVENT
BEGIN:VEVENT
UID:20261112-Kehricht@lostorf.ch
DTSTAMP:20251030T155828Z
DTSTART;VALUE=DATE:20261112
DTEND;VALUE=DATE:20261113
SUMMARY:Kehricht
DESCRIPTION:ab 07:00 Uhr am Strassenrand bereitgestellt
END:VEVENT
BEGIN:VEVENT
UID:20261116-Grüngut@lostorf.ch
DTSTAMP:20251030T155828Z
DTSTART;VALUE=DATE:20261116
DTEND;VALUE=DATE:20261117
SUMMARY:Grüngut
DESCRIPTION:ab 07:00 Uhr am Strassenrand bereitgestellt
END:VEVENT
BEGIN:VEVENT
UID:20261117-Häckseldienst@lostorf.ch
DTSTAMP:20251030T155828Z
DTSTART;VALUE=DATE:20261117
DTEND;VALUE=DATE:20261118
SUMMARY:Häckseldienst
DESCRIPTION:ab 07:00 Uhr am Strassenrand bereitgestellt / Häckselgut wird nicht abgeführt
END:VEVENT
BEGIN:VEVENT
UID:20261119-Kehricht@lostorf.ch
DTSTAMP:20251030T155828Z
DTSTART;VALUE=DATE:20261119
DTEND;VALUE=DATE:20261120
SUMMARY:Kehricht
DESCRIPTION:ab 07:00 Uhr am Strassenrand bereitgestellt
END:VEVENT
BEGIN:VEVENT
UID:20261123-Grüngut@lostorf.ch
DTSTAMP:20251030T155828Z
DTSTART;VALUE=DATE:20261123
DTEND;VALUE=DATE:20261124
SUMMARY:Grüngut
DESCRIPTION:ab 07:00 Uhr am Strassenrand bereitgestellt
END:VEVENT
BEGIN:VEVENT
UID:20261126-Kehricht@lostorf.ch
DTSTAMP:20251030T155828Z
DTSTART;VALUE=DATE:20261126
DTEND;VALUE=DATE:20261127
SUMMARY:Kehricht
DESCRIPTION:ab 07:00 Uhr am Strassenrand bereitgestellt
END:VEVENT
BEGIN:VEVENT
UID:20261203-Kehricht@lostorf.ch
DTSTAMP:20251030T155828Z
DTSTART;VALUE=DATE:20261203
DTEND;VALUE=DATE:20261204
SUMMARY:Kehricht
DESCRIPTION:ab 07:00 Uhr am Strassenrand bereitgestellt
END:VEVENT
BEGIN:VEVENT
UID:20261210-Kehricht@lostorf.ch
DTSTAMP:20251030T155828Z
DTSTART;VALUE=DATE:20261210
DTEND;VALUE=DATE:20261211
SUMMARY:Kehricht
DESCRIPTION:ab 07:00 Uhr am Strassenrand bereitgestellt
END:VEVENT
BEGIN:VEVENT
UID:20261214-Grüngut@lostorf.ch
DTSTAMP:20251030T155828Z
DTSTART;VALUE=DATE:20261214
DTEND;VALUE=DATE:20261215
SUMMARY:Grüngut
DESCRIPTION:ab 07:00 Uhr am Strassenrand bereitgestellt
END:VEVENT
BEGIN:VEVENT
UID:20261217-Kehricht@lostorf.ch
DTSTAMP:20251030T155828Z
DTSTART;VALUE=DATE:20261217
DTEND;VALUE=DATE:20261218
SUMMARY:Kehricht
DESCRIPTION:ab 07:00 Uhr am Strassenrand bereitgestellt
END:VEVENT
BEGIN:VEVENT
UID:20261224-Kehricht@lostorf.ch
DTSTAMP:20251030T155828Z
DTSTART;VALUE=DATE:20261224
DTEND;VALUE=DATE:20261225
SUMMARY:Kehricht
DESCRIPTION:ab 07:00 Uhr am Strassenrand bereitgestellt
END:VEVENT
BEGIN:VEVENT
UID:20261231-Kehricht@lostorf.ch
DTSTAMP:20251030T155828Z
DTSTART;VALUE=DATE:20261231
DTEND;VALUE=DATE:20270101
SUMMARY:Kehricht
DESCRIPTION:ab 07:00 Uhr am Strassenrand bereitgestellt
END:VEVENT
END:VCALENDAR